BEGIN:VCALENDAR
VERSION:2.0
PRODID:-//Cat Allen Yoga - ECPv5.5.0.1//NONSGML v1.0//EN
CALSCALE:GREGORIAN
METHOD:PUBLISH
X-WR-CALNAME:Cat Allen Yoga
X-ORIGINAL-URL:https://catallen.yoga
X-WR-CALDESC:Events for Cat Allen Yoga
BEGIN:VTIMEZONE
TZID:UTC
BEGIN:STANDARD
TZOFFSETFROM:+0000
TZOFFSETTO:+0000
TZNAME:UTC
DTSTART:20160101T000000
END:STANDARD
END:VTIMEZONE
BEGIN:VEVENT
DTSTART;TZID=UTC:20160812T080000
DTEND;TZID=UTC:20160820T123000
DTSTAMP:20260421T202206
CREATED:20160510T003132Z
LAST-MODIFIED:20160927T200536Z
UID:1243-1470988800-1471696200@catallen.yoga
SUMMARY:Forrest Yoga® Advanced Morning Intensives - Houston\, TX
DESCRIPTION:  \nThese 4.5-hour morning intensives are part of the Forrest Yoga® Advanced Teacher Training\, but you don’t have to be a trainee to participate. \nEach day starts off with a ceremony involving chanting\, drumming and meditation to set the intent for the day and create the space for healing and connection to your Spirit\, followed by the intensives that is a practice and an advanced asana instructional training simultaneously. Through carefully sequenced Forrest Yoga® asanas\, Cat and Heidi will open you to amazing depths and feelings of awareness and guide trainees with demonstrations and instructions into advanced poses related to that day’s theme. The Intensives are structured such that trainees learn to spot and assist advanced arm balances\, backbends\, hip openers\, abdominals\, inversions\, advanced twists and bound poses under the supervision of Cat\, Heidi\, and assistants. The intensives are simultaneously a sanctuary where you can feel safe to open up\, work through issues that may arise and go beyond your perceived limitations. You will learn about yourself and feel what it is like to have freedom in your own body and mind. The intensives are sure to accelerate your practice as you will viscerally experience the poses that you will teach each other. Injuries and special needs are addressed so that each trainee experiences these classes as part of his or her own healing practice. \nDetails: \n\nSpots limited to 5 students (sign up before space runs out!)\nMust have 3 years of teaching experience or be a graduate of the Forrest Yoga® Foundation Teacher Training (no minimum experience required)\nAll 9 morning intensives required. No drop-ins.\nUpon completion\, you will receive a Letter of Participation for 40.5 hours of continuing education.\n\nTaught by Heidi Sormaz and Cat Allen. \nRegister here at this link.
URL:https://catallen.yoga/event/morning-intensives-houston-tx/
LOCATION:YogaOne Studios\, 5427 Bellaire Blvd\, Houston\, TX\, 77401\, United States
CATEGORIES:Forrest Yoga Advanced Teacher Training Intensives,Intensive
ATTACH;FMTTYPE=image/jpeg:https://catallen.yoga/wp-content/uploads/2016/02/cat.jpg
END:VEVENT
END:VCALENDAR