BEGIN:VCALENDAR
VERSION:2.0
PRODID:-//Cat Allen Yoga - ECPv5.5.0.1//NONSGML v1.0//EN
CALSCALE:GREGORIAN
METHOD:PUBLISH
X-WR-CALNAME:Cat Allen Yoga
X-ORIGINAL-URL:https://catallen.yoga
X-WR-CALDESC:Events for Cat Allen Yoga
BEGIN:VTIMEZONE
TZID:UTC
BEGIN:STANDARD
TZOFFSETFROM:+0000
TZOFFSETTO:+0000
TZNAME:UTC
DTSTART:20210101T000000
END:STANDARD
END:VTIMEZONE
BEGIN:VEVENT
DTSTART;TZID=UTC:20210101T160000
DTEND;TZID=UTC:20210103T170000
DTSTAMP:20260421T171332
CREATED:20201224T035713Z
LAST-MODIFIED:20201224T035713Z
UID:2659-1609516800-1609693200@catallen.yoga
SUMMARY:3-Day Prenatal & Postnatal Yoga Training (USA only)
DESCRIPTION:ABOUT THE TRAINING: \nWho this training is for: \n\n\n\nTeachers of any movement style or background.\nLimited spots for Non-Teachers who are pregnant or want to learn how to support themselves or their loved ones through pregnancy and postpartum. (Inquire about availability)\nThis training is limited to folx who will be in the United States during the training. If you will be outside the United States during the training\, please check out the trainings taught by Authorized Poppy Trainer Charlie Speller in Europe/Asia time zones.\n\n\n\nTraining Curriculum: \n\n\n\nDue to COVID-19\, this training will take place 100% online via Zoom.\nDaily Prenatal/Postnatal and Meditation Sessions.\nTailor poses for various needs and conditions during pregnancy.\nSpecific postpartum yoga practices that promote healing and support after childbirth\, including vaginal birth\, surgical birth\, VBAC\, and pregnancy loss.\nUse yoga practices to relieve pain\, discomfort\, anxiety\, depression that could accompany pregnancy and postpartum.\nUnderstand the anatomy and physiology of pregnancy\, childbirth\, and postpartum and apply that knowledge to help prenatal and postnatal students.\nHelp people connect emotionally\, physically\, and spiritually with themselves and use those connections to help prepare them for pregnancy\, childbirth\, and postpartum.\nHands-On Assists Clinics – learn and practice enhancement\, or supportive\, or pain-relieving techniques. No one technique works for everyone; adapt techniques that work best for the individual.\n\n\n\nFaculty: \n\n  \nWHAT YOU GET: \n*Teacher Training E-Manual (PDF)\n*Daily Yoga Classes (prenatal/postnatal)\n*Discussion and Q&A Sessions\n*Daily Breathwork and Meditation Exercises\n*Hands-On Assists Workshops\n*Certificate of Completion \nWHAT IS IN THE MANUAL: \n*130 pages\n*Over 100 prenatal and postnatal full color asana pictures with detailed instructions\n*Articles about prenatal and postnatal practices through yoga\, breath\, meditation\n*Poses and techniques for relieving pain and cultivating strength and openness\n*Up-to-date info on anatomy and physiology of pregnancy\, birth\, and postpartum\n*Example 60-minute sequences for private and group prenatal or postnatal classes\n*Example 60-minute sequences for integrating prenatal and postnatal modifications into regular group classes\n*Example 60-minute sequences from relaxing to moderate to athletic prenatal or postnatal classes \nTRAINING SCHEDULE (Houston\, Texas time): \nDay 1 (Houston\, Texas time)\nEvening Training Session 4:00-7:30pm \nDay 2 (Houston\, Texas time)\nMorning Training Session 9:00am-12:00pm\nLunch Break 12:00-1:00pm\nAfternoon Training Session 1:00-5:00pm \nDay 3 (Houston\, Texas time)\nMorning Training Session 8:00-10:00am\nLunch Break 10:00-11:00am\nAfternoon Training Session 11:15am-6:15pm \nFAQs \n\n  \nTUITION: \nTuition is based on a sliding scale. The sliding scale is a tool that allows for something to be obtained at multiple price points based on the circumstances of the purchaser.\nIt is also used to address the systemic inequalities of race and class.\nWe ask that you pay on the scale according to your ability\, resources\, and privilege\, in order to support access and engage in interdependence in action! Please refer to the imperfect description guides under each level of pricing to get an idea of what could be possible and fair for you to afford.\n(adapted from http://www.rwalves.com/justice-pricing-and-sliding-scale.html) \nPay tuition and register by December 20\, 2020. \n\n  \n PAYMENT POLICY: \nPayment and registration close on December 20\, 2020. \nREFUND & CANCELLATION POLICY (STRICT): \n*30 days or more prior to retreat: 50% of monies less paypal fees and $100 non-refundable deposit.\n*29 days prior: No refund. No exceptions. \nAPPLICATION: \nFill out the online application before making payment. Click here for the application. \nREGISTRATION: \nSUSTAINER AND SUPPORTER: \n\n \n\n\n\nChoose One\n\n\nSupporter $375.00 USDSustainer $275.00 USD\n\n\nFirst and Last Name of Trainee\n\n\n\n\n\n\n\n\n \n\nCOMMUNITY: \n\n \n\n\n\nFirst and Last Name of Trainee
URL:https://catallen.yoga/event/3-day-prenatal-postnatal-yoga-training-usa-only/
CATEGORIES:Continuing Education,Prenatal Postnatal Teacher Training
ATTACH;FMTTYPE=image/jpeg:https://catallen.yoga/wp-content/uploads/2017/07/IMG_3782-smaller.jpg
END:VEVENT
END:VCALENDAR